BEGIN:VCALENDAR
VERSION:2.0
PRODID:-//Centre for Innovation in Learning and Teaching (CILT) - ECPv6.15.20//NONSGML v1.0//EN
CALSCALE:GREGORIAN
METHOD:PUBLISH
X-WR-CALNAME:Centre for Innovation in Learning and Teaching (CILT)
X-ORIGINAL-URL:https://cilt.unam.edu.na
X-WR-CALDESC:Events for Centre for Innovation in Learning and Teaching (CILT)
REFRESH-INTERVAL;VALUE=DURATION:PT1H
X-Robots-Tag:noindex
X-PUBLISHED-TTL:PT1H
BEGIN:VTIMEZONE
TZID:UTC
BEGIN:STANDARD
TZOFFSETFROM:+0000
TZOFFSETTO:+0000
TZNAME:UTC
DTSTART:20250101T000000
END:STANDARD
END:VTIMEZONE
BEGIN:VEVENT
DTSTART;TZID=UTC:20260309T080000
DTEND;TZID=UTC:20260403T170000
DTSTAMP:20260425T212038
CREATED:20260316T195813Z
LAST-MODIFIED:20260316T195813Z
UID:6819-1773043200-1775235600@cilt.unam.edu.na
SUMMARY:Certificate of Achievement in Cold Chain Equipment Maintenance
DESCRIPTION:Course Objectives: \n  \nExit Learning Outcomes:\nOn completion of this short course\, participants should be able to: \n  \nTarget Audience: \n  \nNQF Level andCreditsFee per participant and Duration \nNQF Level: 5\nCredits: 16 \nFee per participant and Duration \nN$ 10\, 725.00\n4 Weeks \nContact Person(s) \nDr Dickson K. Chembe\nTel: (W) 065 232 4154\nEmail: dchembe(at)unam.na
URL:https://cilt.unam.edu.na/event/certificate-of-achievement-in-cold-chain-equipment-maintenance/
LOCATION:Online\, Windhoek\, Namibia
CATEGORIES:Short Courses
END:VEVENT
BEGIN:VEVENT
DTSTART;TZID=UTC:20260316T080000
DTEND;TZID=UTC:20260316T170000
DTSTAMP:20260425T212038
CREATED:20260316T195021Z
LAST-MODIFIED:20260316T195021Z
UID:6815-1773648000-1773680400@cilt.unam.edu.na
SUMMARY:Certificate of Achievement in Anaesthetic Nurse Assistance
DESCRIPTION:Course Objectives: \n  \nExit Learning Outcomes:\nOn completion of this short course\, participants should be able to: \n  \nTarget Audience: \n  \nNQF Level andCreditsFee per participant and Duration \nNQF Level: 6\nCredits: 8 \nFee per participant and Duration \nN$ 5\, 315.00\n8 Weeks \nContact Person(s) \nMs Kalista Runone\nTel: (W) 061 206 3613\nEmail: krunone(at)unam.na
URL:https://cilt.unam.edu.na/event/certificate-of-achievement-in-anaesthetic-nurse-assistance/
LOCATION:Online\, Windhoek\, Namibia
CATEGORIES:Short Courses
END:VEVENT
BEGIN:VEVENT
DTSTART;TZID=UTC:20260316T080000
DTEND;TZID=UTC:20260316T170000
DTSTAMP:20260425T212038
CREATED:20260316T195425Z
LAST-MODIFIED:20260316T195425Z
UID:6817-1773648000-1773680400@cilt.unam.edu.na
SUMMARY:Certificate of Achievement in Maritime Security
DESCRIPTION:Course Objectives: \n  \nExit Learning Outcomes:\nOn completion of this short course\, participants should be able to: \n  \nTarget Audience: \n\n\n\nNQF Level andCreditsFee per participant and Duration \nNQF Level: 5\nCredits: 6 \nFee per participant and Duration \nN$ 5\, 235.00\n8 Weeks \nContact Person(s) \nMr Aaron Shitayi\nTel: (W) 061 206 3106\nEmail: ashitayi(at)unam.na
URL:https://cilt.unam.edu.na/event/certificate-of-achievement-in-maritime-security/
LOCATION:Online\, Windhoek\, Namibia
CATEGORIES:Short Courses
END:VEVENT
BEGIN:VEVENT
DTSTART;TZID=UTC:20260316T080000
DTEND;TZID=UTC:20260316T170000
DTSTAMP:20260425T212038
CREATED:20260316T200011Z
LAST-MODIFIED:20260316T200011Z
UID:6821-1773648000-1773680400@cilt.unam.edu.na
SUMMARY:Certificate of Achievement in Decontamination and Sterilization of Medical Devices
DESCRIPTION:Course Objectives: \n  \nExit Learning Outcomes:\nOn completion of this short course\, participants should be able to: \n  \nTarget Audience: \n  \nNQF Level andCreditsFee per participant and Duration \nNQF Level: 5\nCredits: 8 \nFee per participant and Duration \nN$ 4\, 225.00\n8 Weeks \nContact Person(s) \nMs Kalista Runone\nTel: (W) 061 206 3613\nEmail: krunone(at)unam.na
URL:https://cilt.unam.edu.na/event/certificate-of-achievement-in-decontamination-and-sterilization-of-medical-devices/
LOCATION:Online\, Windhoek\, Namibia
CATEGORIES:Short Courses
END:VEVENT
END:VCALENDAR