BEGIN:VCALENDAR
VERSION:2.0
PRODID:-//Centre for Innovation in Learning and Teaching (CILT) - ECPv6.15.20//NONSGML v1.0//EN
CALSCALE:GREGORIAN
METHOD:PUBLISH
X-ORIGINAL-URL:https://cilt.unam.edu.na
X-WR-CALDESC:Events for Centre for Innovation in Learning and Teaching (CILT)
REFRESH-INTERVAL;VALUE=DURATION:PT1H
X-Robots-Tag:noindex
X-PUBLISHED-TTL:PT1H
BEGIN:VTIMEZONE
TZID:UTC
BEGIN:STANDARD
TZOFFSETFROM:+0000
TZOFFSETTO:+0000
TZNAME:UTC
DTSTART:20220101T000000
END:STANDARD
END:VTIMEZONE
BEGIN:VEVENT
DTSTART;TZID=UTC:20241007T110000
DTEND;TZID=UTC:20241007T123000
DTSTAMP:20260425T190139
CREATED:20241003T063836Z
LAST-MODIFIED:20241003T063836Z
UID:6381-1728298800-1728304200@cilt.unam.edu.na
SUMMARY:Using Learning Analytics to Improve and Support Student Success
DESCRIPTION:Date: 07 October 2024 \nTime: 11h00 – 12h30 \nRegistration (you receive Zoom link upon registering): Learning Analytics Webinar Registration \n  \nLearning analytics is the measurement\, collection\, analysis\, and reporting of data about learners and their \ncontexts\, for purposes of understanding and optimizing learning and the environments in which it occurs (Long \n& Siemens\, 2011). Learning analytics can generate actionable insights to help understand and optimise learning \nexperiences\, improve student outcomes and ultimately\, boost student success (SEAtS Software\, 2024). \n  \nThis Webinar seeks to: \n1. Explain the value of learning analytics in learning and teaching \n2. Discuss the importance of an institutional learning analytics strategy \n3. Discuss ways in which the use of learning analytics can support student success \n4. Provide guidance on how learning analytics can be used in a learning management system like Moodle \n5. Share examples of learning analytics practices from institutions in Southern Africa
URL:https://cilt.unam.edu.na/event/using-learning-analytics-to-improve-and-support-student-success/
LOCATION:Online\, Windhoek\, Namibia
CATEGORIES:CILT Webinar
ATTACH;FMTTYPE=image/jpeg:https://cilt.unam.edu.na/wp-content/uploads/2024/10/Using-Learning-Analytics-to-Improve-and-Support-Student-Success_2024.jpg
ORGANIZER;CN="Erkkie Haipinge":MAILTO:ehaipinge@unam.na
END:VEVENT
BEGIN:VEVENT
DTSTART;TZID=UTC:20240919T110000
DTEND;TZID=UTC:20240919T123000
DTSTAMP:20260425T190139
CREATED:20240916T090735Z
LAST-MODIFIED:20240916T092736Z
UID:6371-1726743600-1726749000@cilt.unam.edu.na
SUMMARY:Invitation to attend a Blended Learning Webinar
DESCRIPTION:Lecturers are hereby invited to the Blended Learning Webinar to take place on 19 September 2024. \nPlease find the details of the webinar below and register using the link on the attached PDF invitation to receive the Zoom link. \nAlso take time to complete our Blended Learning feedback survey here: \n  \nhttps://forms.office.com/r/Yfk0NmBvnt
URL:https://cilt.unam.edu.na/event/invitation-to-attend-a-blended-learning-webinar/
LOCATION:Online\, Windhoek\, Namibia
CATEGORIES:CILT Webinar
ATTACH;FMTTYPE=image/jpeg:https://cilt.unam.edu.na/wp-content/uploads/2024/09/BLENDED-LEARNING-WEBINAR_2024-01.jpg
ORGANIZER;CN="Erkkie Haipinge":MAILTO:ehaipinge@unam.na
END:VEVENT
BEGIN:VEVENT
DTSTART;TZID=UTC:20230505T120000
DTEND;TZID=UTC:20230505T130000
DTSTAMP:20260425T190139
CREATED:20230503T070122Z
LAST-MODIFIED:20230503T070122Z
UID:5511-1683288000-1683291600@cilt.unam.edu.na
SUMMARY:Monitoring quality of Blended Courses Webinar
DESCRIPTION:The Centre for Innovation in Learning and Teaching (CILT) invites you to a one (1 hour) \nwebinar on Monitoring quality of Blended Courses. \n  \nDate: Friday\, 5 May 2023 \nTime: 12H00 – 13h00 \nVenue: Online/ Virtual \n  \nWebinar objectives are to: \n• Explain the concept of quality in blended and online courses \n• Discuss quality monitoring standards for blended courses \n• Propose strategies for enhancing the quality of blended learning n \n  \nKindly click HERE to register for the webinar. \nZoom ID: 932 6219 9297 \nPasscode: 688468 \nZoom URL \n  \nFor more information please contact: \nMr. Erkkie Haipinge \nphone: +264 61 206 4906 | email: ehaipinge@unam.na \n  \nKindly click HERE to evaluate the Webinar. \n 
URL:https://cilt.unam.edu.na/event/monitoring-quality-of-blended-courses-webinar/
LOCATION:Online\, Windhoek\, Namibia
CATEGORIES:CILT Webinar
ORGANIZER;CN="Erkkie Haipinge":MAILTO:ehaipinge@unam.na
END:VEVENT
BEGIN:VEVENT
DTSTART;TZID=UTC:20230414T120000
DTEND;TZID=UTC:20230414T130000
DTSTAMP:20260425T190139
CREATED:20230412T125147Z
LAST-MODIFIED:20230412T125509Z
UID:5320-1681473600-1681477200@cilt.unam.edu.na
SUMMARY:Peer Online Assessment Strategies Webinar 
DESCRIPTION:The Centre for Innovation in Learning and Teaching (CILT) invites you to a one (1hr) webinar on Online Peer Assessment Strategies.   \n  \nWebinar objectives are to:  \n\nExplore the concept of Peer Assessment in online learning contexts \nDiscuss the pedagogical benefits of digital peer assessment \nPropose strategies for digital peer assessment at a higher education institution \n\n  \nKindly click HERE to register for the webinar.  \n  \nKindly click HERE to evaluate the Webinar.  \n  \nTo access the Zoom ID and Passcode\, click to fill a form: Zoom ID HERE  \n  \nFor more information please contact Mrs. Anna-Marie Nangolo +264 61 206 4906\, email: ehaipinge@unam.na  \n 
URL:https://cilt.unam.edu.na/event/peer-online-assessment-strategies-webinar/
LOCATION:Online\, Windhoek\, Namibia
CATEGORIES:CILT Webinar
ORGANIZER;CN="Erkkie Haipinge":MAILTO:ehaipinge@unam.na
END:VEVENT
BEGIN:VEVENT
DTSTART;TZID=UTC:20230331T120000
DTEND;TZID=UTC:20230331T130000
DTSTAMP:20260425T190139
CREATED:20230329T095224Z
LAST-MODIFIED:20230329T095423Z
UID:5187-1680264000-1680267600@cilt.unam.edu.na
SUMMARY:Effective use of Open Educational Resources (OERs)
DESCRIPTION:Date: 31 March 2023 \nTime: 12h00-13h00 \nVenue: Online/ Virtual \nJoin Zoom Meeting \nJoin Zoom Meeting\nhttps://zoom.us/j/8091616845?pwd=THZ4ZERTNDBvRGNodXR5a0d1eHIwUT09 \nMeeting ID: 809 161 6845\nPasscode: GT2824L \nRegister here: https://forms.office.com/r/FqX76FPiXF \nWorkshop evaluation: https://forms.office.com/r/sNNr9Yjvjn \nThe Centre for Innovation in Learning and Teaching (CILT) invites you to a one (1hr) webinar on the Effective use of Open Educational Resources (OERs). \nWebinar objectives are to: \n\nConceptualise Open Educational Resources (OERs)\,\nDiscuss the benefits of Using OERs for lecturers and students\,\nFacilitate the sharing of experiences for using OERs.\n\nFor more information please contact Mrs. Anna-Marie Nangolo +264 61 206 4856\, email: aschaller-nangolo(at)unam.na
URL:https://cilt.unam.edu.na/event/effective-use-of-open-educational-resources-oers/
LOCATION:Online\, Windhoek\, Namibia
CATEGORIES:CILT Webinar
ORGANIZER;CN="Anna-Marie Schaller-Nangolo":MAILTO:aschaller-nangolo@unam.na
END:VEVENT
BEGIN:VEVENT
DTSTART;TZID=UTC:20230324T100000
DTEND;TZID=UTC:20230324T120000
DTSTAMP:20260425T190139
CREATED:20230323T141520Z
LAST-MODIFIED:20230323T141809Z
UID:5130-1679652000-1679659200@cilt.unam.edu.na
SUMMARY:Monitoring and Supporting online and blended teaching (Webinar)
DESCRIPTION:Check-in Consultation: training needs for monitoring Blended Learning on Moodle \nCILT is planning a training session on the monitoring of learning and teaching of the online mode of the Blended Learning approach. In preparation for this session\, lecturers and Heads of Departments are hereby invited to a consultation session to ensure that the training session will be responsive to the practical needs on the ground. \nZoom registration: \nRegister in advance for this meeting: \nhttps://zoom.us/meeting/register/tJ0ld-6rrTMpGd20CiV9M0fCXOvuv78uLO2T \nAfter registering\, you will receive a confirmation email containing information about joining the meeting.
URL:https://cilt.unam.edu.na/event/monitoring-and-supporting-online-and-blended-teaching-webinar/
LOCATION:Online\, Windhoek\, Namibia
CATEGORIES:CILT Webinar
ORGANIZER;CN="Gabriel Uunona":MAILTO:guunona@unam.na
END:VEVENT
BEGIN:VEVENT
DTSTART;TZID=UTC:20230317T100000
DTEND;TZID=UTC:20230317T110000
DTSTAMP:20260425T190139
CREATED:20230308T075949Z
LAST-MODIFIED:20230308T080402Z
UID:5108-1679047200-1679050800@cilt.unam.edu.na
SUMMARY:Webinar on Flipped Classroom in Blended Learning
DESCRIPTION:Kindly find the link to register for the webinar on Flipped Classroom\, taking place on Friday\, March 17\, 2023 (12:00–13:00). \nThe objectives of the webinar will focus on the following: \n\nConceptualising what Flipped Classroom is\nApplying flipped Blooms’ Taxonomy to Blended Learning\nProcedures for implementing Flipped Classroom as a Blended Learning approach\nOpenCast is a Flipped Classroom Strategy\n\nPlease click here to register \nFor more information please contact Mrs. Anna-Marie Nangolo +264 61 206 4856\, email aschaller-nangolo (at) unam.na 
URL:https://cilt.unam.edu.na/event/webinar-on-flipped-classroom-in-blended-learning/
LOCATION:Online\, Windhoek\, Namibia
CATEGORIES:CILT Webinar
ORGANIZER;CN="Anna-Marie Schaller-Nangolo":MAILTO:aschaller-nangolo@unam.na
END:VEVENT
END:VCALENDAR