BEGIN:VCALENDAR
VERSION:2.0
PRODID:-//Centre for Innovation in Learning and Teaching (CILT) - ECPv6.15.20//NONSGML v1.0//EN
CALSCALE:GREGORIAN
METHOD:PUBLISH
X-WR-CALNAME:Centre for Innovation in Learning and Teaching (CILT)
X-ORIGINAL-URL:https://cilt.unam.edu.na
X-WR-CALDESC:Events for Centre for Innovation in Learning and Teaching (CILT)
REFRESH-INTERVAL;VALUE=DURATION:PT1H
X-Robots-Tag:noindex
X-PUBLISHED-TTL:PT1H
BEGIN:VTIMEZONE
TZID:UTC
BEGIN:STANDARD
TZOFFSETFROM:+0000
TZOFFSETTO:+0000
TZNAME:UTC
DTSTART:20250101T000000
END:STANDARD
END:VTIMEZONE
BEGIN:VEVENT
DTSTART;TZID=UTC:20260323T080000
DTEND;TZID=UTC:20260323T170000
DTSTAMP:20260426T030643
CREATED:20260323T095953Z
LAST-MODIFIED:20260323T095953Z
UID:6889-1774252800-1774285200@cilt.unam.edu.na
SUMMARY:Certificate of Participation in Leveraging Artificial Intelligence (AI) for Education
DESCRIPTION:Course Objectives: \nArtificial Intelligence (AI) is a multi-disciplinary technology which can have immersive influence for many industries. Almost every industry has found ways how to leap the capabilities and potential benefits to their context. Education too can greatly benefit from AI developments at teaching and learning level. This course exposes the participants to the skills and knowledge on how to leverage AI for teaching and learning including assessment. Participants will learn how to fasten the process of developing teaching and learning materials\, activities and assessment using AI applications while being cognisant of its limitations. \nExit Learning Outcomes: \nOn completion of this short course\, participants should be able to: \n\nDiscover AI applications suitable for educational\nWrite concise AI search prompts for optima\nDesign learning with AI\nDiscuss ethical considerations when using AI\n\nTarget Audience: \nParticipants may include but are not limited to Teachers\, Lecturers\, Education Officers\, Learning and Development Officers\,Trainers/Instructors\, and students. \nNQF Level andCreditsFee per participant and Duration \nNCBSC \nFee per participant and Duration \nN$ 3\, 500.00 \n1 Week \nContact Person(s) \nMr. Gabriel N Uunona \nTel. +264 61 206 3282 \nEmail:guunona(at)unam.na
URL:https://cilt.unam.edu.na/event/certificate-of-participation-in-leveraging-artificial-intelligence-ai-for-education/
LOCATION:Online\, Windhoek\, Namibia
CATEGORIES:Short Courses
ORGANIZER;CN="Gabriel Uunona":MAILTO:guunona@unam.na
END:VEVENT
BEGIN:VEVENT
DTSTART;TZID=UTC:20260323T080000
DTEND;TZID=UTC:20260323T170000
DTSTAMP:20260426T030643
CREATED:20260323T100854Z
LAST-MODIFIED:20260323T100854Z
UID:6891-1774252800-1774285200@cilt.unam.edu.na
SUMMARY:Certificate of Participation in Strategic Management and Leadership
DESCRIPTION:Course Objectives: \nThis course will help participants to gain knowledge and understanding on Strategy formulation\, Implementation\, execution and evaluation. Without anchoring managerial activities and tasks on strategy\, organisations will fail and miss the necessary actions for their future. This course teaches the essentials of business strategy and tools needed for the analysis. Strategic Management gives a broader perspective to managers/ leaders of an organization. This will assist them to better understand how their job fits into the entire organisational plan\, how it is co-related to other organisations\, and how it links to the national discourse: to NDP6\, Vision 2030 and The 2nd Harambee Prosperity Plan (HPP II). \nExit Learning Outcomes: \nOn completion of this short course\, participants should be able to: \n\nConceptualise the art and science of strategic leadership.\nExhibit knowledge\, qualities\, skills and competencies on strategic management.\nDemonstrate approaches to strategic planning\, strategic management\, PMS\, performance management\, performance measurement and target setting\, initiative prioritisation and program evaluation.\nAssess business opportunities through the lens of value creation\nArticulate modern approaches to strategic management\, strategic thinking and strategy mapping.\nDemonstrate a solid and practical understanding of the strategic management process.\n\nTarget Audience: \nSenior Management members in the Public and Private Sector \nNQF Level andCreditsFee per participant and Duration \nNCBSC \nFee per participant and Duration \nN$ 3\, 500.00 \n1 Week \nContact Person(s) \nMr. Gabriel N Uunona \nTel (w) +264 61 206 3282 \nEmail:guunona(at)unam.na
URL:https://cilt.unam.edu.na/event/certificate-of-participation-in-strategic-management-and-leadership/
LOCATION:Online\, Windhoek\, Namibia
CATEGORIES:Short Courses
ORGANIZER;CN="Gabriel Uunona":MAILTO:guunona@unam.na
END:VEVENT
BEGIN:VEVENT
DTSTART;TZID=UTC:20260323T080000
DTEND;TZID=UTC:20260323T170000
DTSTAMP:20260426T030643
CREATED:20260323T101600Z
LAST-MODIFIED:20260323T101600Z
UID:6893-1774252800-1774285200@cilt.unam.edu.na
SUMMARY:Certificate of   Participation in Blog Development
DESCRIPTION:Course Objectives: \nBlogs are custom-built webpages on which authors document either their life journals on highlights of their daily living\, topics of special interests\, research\, hobbies and funs\, poetries or generally anything. While developing webpages and sites may generally require technical skills\, new web developments have made it easy for non-technical persons to be able to use available templates to customise and develop their own webpages in the form of blogs. This short course will expose the participants to the benefits of blogging\, which include monetary benefits. Participants will be guided to the discovery of different blogging sites as well as the necessary skills to customise blogging pages\, attract viewer traffic to blogging pages\, update blogging pages\, market or promote services\, products\, and ideologies through blogging. \nExit Learning Outcomes: \nOn completion of this short course\, participants should be able to: \n\nUnderstand the concepts of\nIdentify the potential benefits of\nExplore various blogging\nPublish own blogs.\n\nTarget Audience: \nParticipation may include but are not limited to Public relations officers\, Media officers\, content creators/ writers\, poets\, bloggers\, vloggers\, marketing officers\, pastors\, historians\, curators\, artists. \nNQF Level andCreditsFee per participant and Duration \nNCBSC \nFee per participant and Duration \nN$ 3\, 500.00 \n1 Week \nContact Person(s) \nMr. Gabriel N Uunona \nTel. +264 61 206 3282 \nEmail: guunona(at)unam.na
URL:https://cilt.unam.edu.na/event/certificate-of-participation-in-blog-development/
LOCATION:Online\, Windhoek\, Namibia
CATEGORIES:Short Courses
ORGANIZER;CN="Gabriel Uunona":MAILTO:guunona@unam.na
END:VEVENT
BEGIN:VEVENT
DTSTART;TZID=UTC:20260323T080000
DTEND;TZID=UTC:20260327T170000
DTSTAMP:20260426T030643
CREATED:20260316T201226Z
LAST-MODIFIED:20260316T201236Z
UID:6830-1774252800-1774630800@cilt.unam.edu.na
SUMMARY:Certificate of Achievement in Entrepreneurship and Innovation
DESCRIPTION:Course Objectives: \n  \nExit Learning Outcomes:\nOn completion of this short course\, participants should be able to: \n  \nTarget Audience: \n  \nNQF Level andCreditsFee per participant and Duration \nNQF Level: 8\nCredits: 18 \nFee per participant and Duration \nN$ 8\, 555.00\n1 Weeks \nContact Person(s) \nMrs Emma Hipakua\nTel: (W) 081 288 8885\nEmail: ehipakua(at)unam.na
URL:https://cilt.unam.edu.na/event/certificate-of-achievement-in-entrepreneurship-and-innovation/
LOCATION:Face-to-face
CATEGORIES:Short Courses
END:VEVENT
BEGIN:VEVENT
DTSTART;TZID=UTC:20260323T080000
DTEND;TZID=UTC:20260327T170000
DTSTAMP:20260426T030643
CREATED:20260316T201447Z
LAST-MODIFIED:20260316T201447Z
UID:6833-1774252800-1774630800@cilt.unam.edu.na
SUMMARY:Certificate of Achievement in Project Management Essentials
DESCRIPTION:Course Objectives: \n  \nExit Learning Outcomes:\nOn completion of this short course\, participants should be able to: \n  \nTarget Audience: \n  \nNQF Level andCreditsFee per participant and Duration \nNQF Level: 5\nCredits: 16 \nFee per participant and Duration \nN$ 7\, 745.00\n1 Weeks \nContact Person(s) \nMrs Emma Hipakua\nTel: (W) 081 288 8885\nEmail: ehipakua(at)unam.na
URL:https://cilt.unam.edu.na/event/certificate-of-achievement-in-project-management-essentials/
LOCATION:Face-to-face
CATEGORIES:Short Courses
END:VEVENT
BEGIN:VEVENT
DTSTART;TZID=UTC:20260501T080000
DTEND;TZID=UTC:20260531T170000
DTSTAMP:20260426T030643
CREATED:20260316T190156Z
LAST-MODIFIED:20260323T061517Z
UID:6775-1777622400-1780246800@cilt.unam.edu.na
SUMMARY:Certificate of Achievement in Online Pedagogies
DESCRIPTION:Course Objectives: \nThe current trends in Higher Education emphasise student-centred learning and teaching that is underpinned by constructivist approaches. This professional development course is developed to support educators to acquire knowledge and skills to utilise online tools for blended learning delivery modes that are student-centered\, using Learning Management Systems. The course will support participants to appreciate instructional technologies and be able to develop digital learning content as well as facilitate learning through virtual platforms. \nExit Learning Outcomes: \nOn completion of this short course\, participants should be able to: \n\nIdentify and analyse the philosophical underpinning of learning and teaching in Higher Education and\nCompare and contrast between teaching in the face-to-face classroom and teaching online.\nDistinguish instructional design approaches for online courses and how instructional designers and subject matter experts collaborate in the design and development of online courses.\nApply the principles of constructive alignment to the planning and design of an online course.\nDemonstrate best practices for developing and presenting learning content in online courses.\nApply strategies and best practices for facilitating online courses and managing time for regular learning tasks.\nDevelop an assessment strategy for an online course.\nApply various types of assessment methods suited for the online environment.\nUse a variety of Learning Management Systems (LMS) such as Moodle and tools for developing learning content and assessment activities.\n\nTarget Audience: \n\nLectures\, Teachers\, Trainers\, Learning Development Officers\, Education Officers (Educators).\n\nApplication Link: \nhttps://forms.office.com/r/vjCBteLMqE \nNQF Level andCreditsFee per participant and Duration \nNQF Level: 6\nCredits: 16 \nFee per participant and Duration \nN$ 5\, 560.00\n8 Weeks \nContact Person(s) \nMr. Gabriel Uunona\nTel (w): +264 612 063 282\nEmail: guunona(at)unam.na \n 
URL:https://cilt.unam.edu.na/event/certificate-of-achievement-in-online-pedagogies/
LOCATION:Online\, Windhoek\, Namibia
CATEGORIES:Short Courses
ORGANIZER;CN="Gabriel Uunona":MAILTO:guunona@unam.na
END:VEVENT
BEGIN:VEVENT
DTSTART;TZID=UTC:20260518T080000
DTEND;TZID=UTC:20260522T170000
DTSTAMP:20260426T030643
CREATED:20260316T200853Z
LAST-MODIFIED:20260316T200853Z
UID:6827-1779091200-1779469200@cilt.unam.edu.na
SUMMARY:Certificate of Achievement in Administration & Secretarial
DESCRIPTION:Course Objectives: \n  \nExit Learning Outcomes:\nOn completion of this short course\, participants should be able to: \n  \nTarget Audience: \n  \nNQF Level andCreditsFee per participant and Duration \nNQF Level: 5\nCredits: 8 \nFee per participant and Duration \nN$ 5\, 975.00\n1 Weeks \nContact Person(s) \nMs Viola Unengu\nTel: (W) 061 206 4544\nEmail: vunengu(at)unam.na
URL:https://cilt.unam.edu.na/event/certificate-of-achievement-in-administration-secretarial/
LOCATION:Online\, Windhoek\, Namibia
CATEGORIES:Short Courses
END:VEVENT
BEGIN:VEVENT
DTSTART;TZID=UTC:20260518T080000
DTEND;TZID=UTC:20260522T170000
DTSTAMP:20260426T030643
CREATED:20260323T071421Z
LAST-MODIFIED:20260323T071421Z
UID:6861-1779091200-1779469200@cilt.unam.edu.na
SUMMARY:Certificate of Participation in Emotional Intelligence
DESCRIPTION:Course Objectives: \nThe short course is intended to equip participants with the basic knowledge\, practical skills and techniques necessary to enhance one’s own emotional intelligence towards self\, family\, colleagues and significant others.  Most important\, to learn \, recognize and manage emotions in a mature and effective manner. This course will further help participants understand that emotional intelligence can promote emotional wellness and serve as a protective shield against mental health disorders.  Individuals that manage their emotions effectively\, can prevent emotional suffering and improve overall mental well-being. \nExit Learning Outcomes: \nOn completion of this short course\, participants should be able to: \n  \n\nDefine the concept of emotional intelligence (EQ) and its importance to any human relationship e.g. personal and professional relationships.\nExplain with basic understanding the relationship between emotional intelligence and mental health.\nDemonstrate practical emotional intelligence in any given situation.\nDemonstrate emotional intelligence skills and techniques including empathy and social skills\nDevelop self-awareness in managing stress and conflict.\nValue and recognize self and others’ emotions in establishing connectedness and mental health.\n\nTarget Audience: \nManagers and corporate employees\, Supervisors\, and Team Leaders\, HR Professionals\, Teachers\, Social Workers\, Counsellors\, Customer Service Personnel \nApplication Link: \nhttps://forms.office.com/r/Jzg7JDwu3f \nNQF Level and CreditsFee per participant and Duration \nNQF Level: NCBSC \nFee per participant and Duration \nN$ 6\, 065.00\n1 Week \nContact Person(s) \nMrs. Martha Jonas \nTel (w): +264 612 04751 \nEmail: mjonas(at)unam.na
URL:https://cilt.unam.edu.na/event/certificate-of-participation-in-emotional-intelligence/
LOCATION:Online\, Windhoek\, Namibia
CATEGORIES:Short Courses
ORGANIZER;CN="Ms. Martha Jonas":MAILTO:mnjonas@unam.na
END:VEVENT
BEGIN:VEVENT
DTSTART;TZID=UTC:20260601T080000
DTEND;TZID=UTC:20260605T170000
DTSTAMP:20260426T030643
CREATED:20260316T193018Z
LAST-MODIFIED:20260316T193341Z
UID:6781-1780300800-1780678800@cilt.unam.edu.na
SUMMARY:Certificate of Achievement in AutoCAD 2D Fundamentals
DESCRIPTION:Course Objectives: \n  \nExit Learning Outcomes:\nOn completion of this short course\, participants should be able to: \n  \nTarget Audience: \n  \nNQF Level andCreditsFee per participant and Duration \nNQF Level: 6\nCredits: 16 \nFee per participant and Duration \nN$ 4760.00\n5 days \nContact Person(s) \nDr Ester Angula\nTel: (W) 065 232 4005\nEmail: eangula(at)unam.na
URL:https://cilt.unam.edu.na/event/certificate-of-achievement-in-autocad-2d-fundamentals/
LOCATION:Face-to-face
CATEGORIES:Short Courses
END:VEVENT
BEGIN:VEVENT
DTSTART;TZID=UTC:20260601T080000
DTEND;TZID=UTC:20260612T170000
DTSTAMP:20260426T030643
CREATED:20260316T193256Z
LAST-MODIFIED:20260316T193736Z
UID:6803-1780300800-1781283600@cilt.unam.edu.na
SUMMARY:Certificate of Achievement in Fundamentals of Oil and Gas Engineering
DESCRIPTION:Course Objectives: \n  \nExit Learning Outcomes:\nOn completion of this short course\, participants should be able to: \n  \nTarget Audience: \n  \nNQF Level andCreditsFee per participant and Duration \nNQF Level: 5\nCredits: 6 \nFee per participant and Duration \nN$ 4\,180.00\n2 Weeks \nContact Person(s) \nMrs Nekwaya Tuyenikelao Tumangulula\nTel: (W) 065 232 4153\nEmail: tnekwaya(at)unam.na
URL:https://cilt.unam.edu.na/event/certificate-of-achievement-in-fundamentals-of-oil-and-gas-engineering/
CATEGORIES:Short Courses
END:VEVENT
BEGIN:VEVENT
DTSTART;TZID=UTC:20260608T080000
DTEND;TZID=UTC:20260612T170000
DTSTAMP:20260426T030643
CREATED:20260323T084149Z
LAST-MODIFIED:20260323T084418Z
UID:6869-1780905600-1781283600@cilt.unam.edu.na
SUMMARY:Certificate of Participation in Strategic Public and Private Procurement
DESCRIPTION:Course Objectives: \nThe purpose of this course is to ensure that professionals who work in the procurement environment are equipped to perform their day-to-day tasks by being equipped with the necessary knowledge and skills of the Procurement Act\, guidelines\, rules\, and regulations. With procurement taking center stage in effective and efficient service delivery in any organisation\, this course will ensure that participants get a practical\, yet relevant approach to navigate these pressures\, and understand the importance that procurement plays within the public and private sector. It is of uttermost importance that procurement is not seen as an administrative task but a strategic supporting function hence the development of this course. \nExit Learning Outcomes: \nOn completion of this short course\, participants should be able to: \n\n. Understand the Public Procurement Act no. 15 of 2015 with its amendments and how to practically apply it in the workspace.\nUnderstand leading best procurement practices adapted from private procurement to ensure efficiency in public procurement.\nUnderstand compliance and have practical know-how to implement various factors across functional requirements in the organisation. Understanding of contract management and the importance thereof.\n\nTarget Audience: \nContract and Tender Administrators\, Purchasing/ Procurement Officers\, Purchasing/Procurement Managers\, Supply Chain officers\, Supply Chain Managers\, Bid-Evaluation Committee members\, Procurement Committee members\, Project Officers\, Project Managers\, or any individual with an interest in procurement and/or bid-evaluation. \nApplication Link \nhttps://forms.office.com/r/Q2HZ9CxzFL \nNQF Level andCreditsFee per participant and Duration \nNCBSC \nFee per participant and Duration \nN$ 5\, 565.00 \n1 Week \nContact Person(s) \nDr. Esther Nuuyoma \nTel (w): +264 61 206 4539 \nEmail: enuuyoma(at)unam.na
URL:https://cilt.unam.edu.na/event/certificate-of-participation-in-strategic-public-and-private-procurement/
LOCATION:Online\, Windhoek\, Namibia
CATEGORIES:Short Courses
ORGANIZER;CN="Ms. Martha Jonas":MAILTO:mnjonas@unam.na
END:VEVENT
BEGIN:VEVENT
DTSTART;TZID=UTC:20260615T080000
DTEND;TZID=UTC:20260626T170000
DTSTAMP:20260426T030643
CREATED:20260316T194400Z
LAST-MODIFIED:20260316T194400Z
UID:6811-1781510400-1782493200@cilt.unam.edu.na
SUMMARY:Certificate of Achievement in AutoCAD 3D Modelling
DESCRIPTION:Course Objectives: \n  \nExit Learning Outcomes:\nOn completion of this short course\, participants should be able to: \n  \nTarget Audience: \n  \nNQF Level andCreditsFee per participant and Duration \nNQF Level: 7\nCredits: 16 \nFee per participant and Duration \nN$ 6\, 885.00\n8 Weeks \nContact Person(s) \nMr. Gabriel Uunona\nTel (w): +264 612 063 282\nEmail: guunona(at)unam.na
URL:https://cilt.unam.edu.na/event/certificate-of-achievement-in-autocad-3d-modelling/
LOCATION:Online\, Windhoek\, Namibia
CATEGORIES:Short Courses
END:VEVENT
BEGIN:VEVENT
DTSTART;TZID=UTC:20260701T080000
DTEND;TZID=UTC:20260731T170000
DTSTAMP:20260426T030643
CREATED:20260316T194703Z
LAST-MODIFIED:20260316T194703Z
UID:6813-1782892800-1785517200@cilt.unam.edu.na
SUMMARY:Certificate of Achievement in Research Proposal Writing
DESCRIPTION:Course Objectives: \n  \nExit Learning Outcomes:\nOn completion of this short course\, participants should be able to: \n  \nTarget Audience: \n  \nNQF Level andCreditsFee per participant and Duration \nNQF Level: 8\nCredits: 12 \nFee per participant and Duration \nN$ 4\, 143.00\n5 Weeks \nContact Person(s) \nMs Natalia Intja\nTel: (W) 061 206 7203\nEmail: nreino(at)unam.na
URL:https://cilt.unam.edu.na/event/certificate-of-achievement-in-research-proposal-writing/
LOCATION:Online\, Windhoek\, Namibia
CATEGORIES:Short Courses
END:VEVENT
BEGIN:VEVENT
DTSTART;TZID=UTC:20260701T080000
DTEND;TZID=UTC:20260930T170000
DTSTAMP:20260426T030643
CREATED:20260316T191929Z
LAST-MODIFIED:20260323T071831Z
UID:6777-1782892800-1790787600@cilt.unam.edu.na
SUMMARY:Certificate of Achievement in Programme Monitoring and Evaluation
DESCRIPTION:Course Objectives: \nThe main aim of this short course is to develop the capacity of professionals in the public\, private and non- profit sectors in Programme Monitoring and Evaluation\, in order to enhance Monitoring and Evaluation (M&E) competencies and foster a culture of results- based performance\, accountability and sustainable development in Namibia. \nExit Learning Outcomes: \nOn completion of this short course\, participants should be able to: \n\nDefine the key concepts (monitoring\, evaluation\, indicator\, data\, framework and plan) and principles of monitoring and evaluation their application within the Results Framework\nAppreciate the importance and use of M&E information and best practices in the public\, private and non-profit sectors.\nDevelop the Logical Frameworks and Logic Models for specific interventions.\nAnalyse different types of data and\nApply Monitoring and Evaluation (M&E) tools and types of evaluation.\nDevelop a Monitoring and Evaluation (M&E) Framework/Plan for a specific intervention.\nManage institutional evaluation structures and\n\nTarget Audience: \nThe programme targets the following participants: \n\nProfessionals in public\, private and civil society sectors entrusted with Monitoring and Evaluation functions\nConsultants tasked with monitoring and evaluation duties\nProject managers in research and planning units and directorates both public and private\nProfessionals in Non-Profit organisations involved in social\, health and educational research activities\nSocial policy specialists\, analysts and advisers\nSocial researchers and academics\n\nData Quality managers and clerks \nNQF Level andCreditsFee per participant and Duration \nNQF Level: 8 \nCredits: 8 \nFee per participant and Duration \nN$ 6\, 500.00 \n3 months \nContact Person(s) \nDr. Havelinus Shemuketa \nTel (w): +264 61 206 4671 \nEmail: hshemuketa(at)unam.na
URL:https://cilt.unam.edu.na/event/certificate-of-achievement-in-programme-monitoring-and-evaluation/
LOCATION:Online\, Windhoek\, Namibia
CATEGORIES:Short Courses
END:VEVENT
BEGIN:VEVENT
DTSTART;TZID=UTC:20260727T080000
DTEND;TZID=UTC:20260807T170000
DTSTAMP:20260426T030643
CREATED:20260316T194010Z
LAST-MODIFIED:20260323T082729Z
UID:6809-1785139200-1786122000@cilt.unam.edu.na
SUMMARY:Certificate of Achievement in CBET Assessment Instrument Development & Administration In TVET
DESCRIPTION:Course Objectives: \nThis course provides cutting edge knowledge\, skills\, techniques and best practices for assessing competency in Technical Vocational Education and Training (TVET). The course provides participants with the knowledge and skills to assess Competency-Based Education and Training (CBET) qualifications using a variety of assessment methods\, including Recognition of Prior Learning (RPL). It also provides participants with the knowledge and skills to compile CBET assessment outcomes\, compile the CBET assessment reports\, and communicate the assessment outcomes to relevant TVET stakeholders. This short course has been benchmarked against the unit standard 115753/336 to comply with the Namibia Training Authority regulations for assessors and assessment instrument designers. \nExit Learning Outcomes: \nOn completion of this short course\, participants should be able to: \n\nExplain assessment within the context of CBET.\nDevelop CBET assessments.\nAdminister CBET assessments.\nQuality Assure CBET assessments.\nCompile CBET assessment reports.\nCommunicate CBET assessment findings to TVET stakeholders.\n\nTarget Audience: \nTechnical Vocational Education and Training (TVET) Trainers\, Assessment and Certification Officers\, Examination Officers\, and Assessment and Certification Officers. \nNQF Level andCreditsFee per participant and Duration \nNQF Level: 6 \nCredits: 8 \nFee per participant and Duration \nN$ 5\, 000.00\n2 Weeks (1 Week FTF + 1 Week Online) \nContact Person(s) \nMrs. Jonas Martha \nTel (w): +264 61 206 4751 \nEmail:mjonas(at)unam.na
URL:https://cilt.unam.edu.na/event/certificate-of-achievement-in-cbet-assessment-instrument-development-administration-in-tvet/
LOCATION:Online\, Windhoek\, Namibia
CATEGORIES:Short Courses
ORGANIZER;CN="Ms. Martha Jonas":MAILTO:mnjonas@unam.na
END:VEVENT
BEGIN:VEVENT
DTSTART;TZID=UTC:20260817T080000
DTEND;TZID=UTC:20260821T170000
DTSTAMP:20260426T030643
CREATED:20260316T200254Z
LAST-MODIFIED:20260316T200254Z
UID:6823-1786953600-1787331600@cilt.unam.edu.na
SUMMARY:Certificate of Achievement in Accounting & Finance
DESCRIPTION:Course Objectives: \n  \nExit Learning Outcomes:\nOn completion of this short course\, participants should be able to: \n  \nTarget Audience: \n  \nNQF Level andCreditsFee per participant and Duration \nNQF Level: 5\nCredits: 14 \nFee per participant and Duration \nN$ 6\, 200.00\n1 Weeks \nContact Person(s) \nMs Viola Unengu\nTel: (W) 061 206 4544\nEmail: vunengu(at)unam.na
URL:https://cilt.unam.edu.na/event/certificate-of-achievement-in-accounting-finance/
LOCATION:Online\, Windhoek\, Namibia
CATEGORIES:Short Courses
END:VEVENT
BEGIN:VEVENT
DTSTART;TZID=UTC:20261101T080000
DTEND;TZID=UTC:20261130T170000
DTSTAMP:20260426T030643
CREATED:20260316T200651Z
LAST-MODIFIED:20260316T201028Z
UID:6825-1793520000-1796058000@cilt.unam.edu.na
SUMMARY:Certificate of Achievement in Auditing\, Governance & Risk Assessment
DESCRIPTION:Course Objectives: \n  \nExit Learning Outcomes:\nOn completion of this short course\, participants should be able to: \n  \nTarget Audience: \n  \nNQF Level andCreditsFee per participant and Duration \nNQF Level: 5\nCredits: 14 \nFee per participant and Duration \nN$ 5\, 560.00\n8 Weeks \nContact Person(s) \nMs Viola Unengu\nTel: (W) 061 206 4544\nEmail: vunengu(at)unam.na
URL:https://cilt.unam.edu.na/event/certificate-of-achievement-in-auditing-governance-risk-assessment/
LOCATION:Online\, Windhoek\, Namibia
CATEGORIES:Short Courses
END:VEVENT
END:VCALENDAR