BEGIN:VCALENDAR
VERSION:2.0
PRODID:-//Centre for Innovation in Learning and Teaching (CILT) - ECPv6.15.20//NONSGML v1.0//EN
CALSCALE:GREGORIAN
METHOD:PUBLISH
X-WR-CALNAME:Centre for Innovation in Learning and Teaching (CILT)
X-ORIGINAL-URL:https://cilt.unam.edu.na
X-WR-CALDESC:Events for Centre for Innovation in Learning and Teaching (CILT)
REFRESH-INTERVAL;VALUE=DURATION:PT1H
X-Robots-Tag:noindex
X-PUBLISHED-TTL:PT1H
BEGIN:VTIMEZONE
TZID:UTC
BEGIN:STANDARD
TZOFFSETFROM:+0000
TZOFFSETTO:+0000
TZNAME:UTC
DTSTART:20250101T000000
END:STANDARD
END:VTIMEZONE
BEGIN:VEVENT
DTSTART;TZID=UTC:20261101T080000
DTEND;TZID=UTC:20261130T170000
DTSTAMP:20260425T225921
CREATED:20260316T200651Z
LAST-MODIFIED:20260316T201028Z
UID:6825-1793520000-1796058000@cilt.unam.edu.na
SUMMARY:Certificate of Achievement in Auditing\, Governance & Risk Assessment
DESCRIPTION:Course Objectives: \n  \nExit Learning Outcomes:\nOn completion of this short course\, participants should be able to: \n  \nTarget Audience: \n  \nNQF Level andCreditsFee per participant and Duration \nNQF Level: 5\nCredits: 14 \nFee per participant and Duration \nN$ 5\, 560.00\n8 Weeks \nContact Person(s) \nMs Viola Unengu\nTel: (W) 061 206 4544\nEmail: vunengu(at)unam.na
URL:https://cilt.unam.edu.na/event/certificate-of-achievement-in-auditing-governance-risk-assessment/
LOCATION:Online\, Windhoek\, Namibia
CATEGORIES:Short Courses
END:VEVENT
END:VCALENDAR