BEGIN:VCALENDAR
VERSION:2.0
PRODID:-//Centre for Innovation in Learning and Teaching (CILT) - ECPv6.15.20//NONSGML v1.0//EN
CALSCALE:GREGORIAN
METHOD:PUBLISH
X-ORIGINAL-URL:https://cilt.unam.edu.na
X-WR-CALDESC:Events for Centre for Innovation in Learning and Teaching (CILT)
REFRESH-INTERVAL;VALUE=DURATION:PT1H
X-Robots-Tag:noindex
X-PUBLISHED-TTL:PT1H
BEGIN:VTIMEZONE
TZID:UTC
BEGIN:STANDARD
TZOFFSETFROM:+0000
TZOFFSETTO:+0000
TZNAME:UTC
DTSTART:20250101T000000
END:STANDARD
END:VTIMEZONE
BEGIN:VEVENT
DTSTART;TZID=UTC:20260701T080000
DTEND;TZID=UTC:20260731T170000
DTSTAMP:20260426T034131
CREATED:20260316T194703Z
LAST-MODIFIED:20260316T194703Z
UID:6813-1782892800-1785517200@cilt.unam.edu.na
SUMMARY:Certificate of Achievement in Research Proposal Writing
DESCRIPTION:Course Objectives: \n  \nExit Learning Outcomes:\nOn completion of this short course\, participants should be able to: \n  \nTarget Audience: \n  \nNQF Level andCreditsFee per participant and Duration \nNQF Level: 8\nCredits: 12 \nFee per participant and Duration \nN$ 4\, 143.00\n5 Weeks \nContact Person(s) \nMs Natalia Intja\nTel: (W) 061 206 7203\nEmail: nreino(at)unam.na
URL:https://cilt.unam.edu.na/event/certificate-of-achievement-in-research-proposal-writing/
LOCATION:Online\, Windhoek\, Namibia
CATEGORIES:Short Courses
END:VEVENT
BEGIN:VEVENT
DTSTART;TZID=UTC:20260701T080000
DTEND;TZID=UTC:20260930T170000
DTSTAMP:20260426T034131
CREATED:20260316T191929Z
LAST-MODIFIED:20260323T071831Z
UID:6777-1782892800-1790787600@cilt.unam.edu.na
SUMMARY:Certificate of Achievement in Programme Monitoring and Evaluation
DESCRIPTION:Course Objectives: \nThe main aim of this short course is to develop the capacity of professionals in the public\, private and non- profit sectors in Programme Monitoring and Evaluation\, in order to enhance Monitoring and Evaluation (M&E) competencies and foster a culture of results- based performance\, accountability and sustainable development in Namibia. \nExit Learning Outcomes: \nOn completion of this short course\, participants should be able to: \n\nDefine the key concepts (monitoring\, evaluation\, indicator\, data\, framework and plan) and principles of monitoring and evaluation their application within the Results Framework\nAppreciate the importance and use of M&E information and best practices in the public\, private and non-profit sectors.\nDevelop the Logical Frameworks and Logic Models for specific interventions.\nAnalyse different types of data and\nApply Monitoring and Evaluation (M&E) tools and types of evaluation.\nDevelop a Monitoring and Evaluation (M&E) Framework/Plan for a specific intervention.\nManage institutional evaluation structures and\n\nTarget Audience: \nThe programme targets the following participants: \n\nProfessionals in public\, private and civil society sectors entrusted with Monitoring and Evaluation functions\nConsultants tasked with monitoring and evaluation duties\nProject managers in research and planning units and directorates both public and private\nProfessionals in Non-Profit organisations involved in social\, health and educational research activities\nSocial policy specialists\, analysts and advisers\nSocial researchers and academics\n\nData Quality managers and clerks \nNQF Level andCreditsFee per participant and Duration \nNQF Level: 8 \nCredits: 8 \nFee per participant and Duration \nN$ 6\, 500.00 \n3 months \nContact Person(s) \nDr. Havelinus Shemuketa \nTel (w): +264 61 206 4671 \nEmail: hshemuketa(at)unam.na
URL:https://cilt.unam.edu.na/event/certificate-of-achievement-in-programme-monitoring-and-evaluation/
LOCATION:Online\, Windhoek\, Namibia
CATEGORIES:Short Courses
END:VEVENT
BEGIN:VEVENT
DTSTART;TZID=UTC:20260727T080000
DTEND;TZID=UTC:20260807T170000
DTSTAMP:20260426T034131
CREATED:20260316T194010Z
LAST-MODIFIED:20260323T082729Z
UID:6809-1785139200-1786122000@cilt.unam.edu.na
SUMMARY:Certificate of Achievement in CBET Assessment Instrument Development & Administration In TVET
DESCRIPTION:Course Objectives: \nThis course provides cutting edge knowledge\, skills\, techniques and best practices for assessing competency in Technical Vocational Education and Training (TVET). The course provides participants with the knowledge and skills to assess Competency-Based Education and Training (CBET) qualifications using a variety of assessment methods\, including Recognition of Prior Learning (RPL). It also provides participants with the knowledge and skills to compile CBET assessment outcomes\, compile the CBET assessment reports\, and communicate the assessment outcomes to relevant TVET stakeholders. This short course has been benchmarked against the unit standard 115753/336 to comply with the Namibia Training Authority regulations for assessors and assessment instrument designers. \nExit Learning Outcomes: \nOn completion of this short course\, participants should be able to: \n\nExplain assessment within the context of CBET.\nDevelop CBET assessments.\nAdminister CBET assessments.\nQuality Assure CBET assessments.\nCompile CBET assessment reports.\nCommunicate CBET assessment findings to TVET stakeholders.\n\nTarget Audience: \nTechnical Vocational Education and Training (TVET) Trainers\, Assessment and Certification Officers\, Examination Officers\, and Assessment and Certification Officers. \nNQF Level andCreditsFee per participant and Duration \nNQF Level: 6 \nCredits: 8 \nFee per participant and Duration \nN$ 5\, 000.00\n2 Weeks (1 Week FTF + 1 Week Online) \nContact Person(s) \nMrs. Jonas Martha \nTel (w): +264 61 206 4751 \nEmail:mjonas(at)unam.na
URL:https://cilt.unam.edu.na/event/certificate-of-achievement-in-cbet-assessment-instrument-development-administration-in-tvet/
LOCATION:Online\, Windhoek\, Namibia
CATEGORIES:Short Courses
ORGANIZER;CN="Ms. Martha Jonas":MAILTO:mnjonas@unam.na
END:VEVENT
BEGIN:VEVENT
DTSTART;TZID=UTC:20260817T080000
DTEND;TZID=UTC:20260821T170000
DTSTAMP:20260426T034131
CREATED:20260316T200254Z
LAST-MODIFIED:20260316T200254Z
UID:6823-1786953600-1787331600@cilt.unam.edu.na
SUMMARY:Certificate of Achievement in Accounting & Finance
DESCRIPTION:Course Objectives: \n  \nExit Learning Outcomes:\nOn completion of this short course\, participants should be able to: \n  \nTarget Audience: \n  \nNQF Level andCreditsFee per participant and Duration \nNQF Level: 5\nCredits: 14 \nFee per participant and Duration \nN$ 6\, 200.00\n1 Weeks \nContact Person(s) \nMs Viola Unengu\nTel: (W) 061 206 4544\nEmail: vunengu(at)unam.na
URL:https://cilt.unam.edu.na/event/certificate-of-achievement-in-accounting-finance/
LOCATION:Online\, Windhoek\, Namibia
CATEGORIES:Short Courses
END:VEVENT
BEGIN:VEVENT
DTSTART;TZID=UTC:20261101T080000
DTEND;TZID=UTC:20261130T170000
DTSTAMP:20260426T034131
CREATED:20260316T200651Z
LAST-MODIFIED:20260316T201028Z
UID:6825-1793520000-1796058000@cilt.unam.edu.na
SUMMARY:Certificate of Achievement in Auditing\, Governance & Risk Assessment
DESCRIPTION:Course Objectives: \n  \nExit Learning Outcomes:\nOn completion of this short course\, participants should be able to: \n  \nTarget Audience: \n  \nNQF Level andCreditsFee per participant and Duration \nNQF Level: 5\nCredits: 14 \nFee per participant and Duration \nN$ 5\, 560.00\n8 Weeks \nContact Person(s) \nMs Viola Unengu\nTel: (W) 061 206 4544\nEmail: vunengu(at)unam.na
URL:https://cilt.unam.edu.na/event/certificate-of-achievement-in-auditing-governance-risk-assessment/
LOCATION:Online\, Windhoek\, Namibia
CATEGORIES:Short Courses
END:VEVENT
END:VCALENDAR